BEGIN:VCALENDAR
PRODID:http://www.kufer.de/kuferweb / DE
VERSION:2.0
METHOD:PUBLISH
CALSCALE:GREGORIAN
X-WR-TIMEZONE:Europe/Berlin
BEGIN:VTIMEZONE
TZID:Europe/Berlin
X-LIC-LOCATION:Europe/Berlin
BEGIN:DAYLIGHT
TZOFFSETFROM:+0100
TZOFFSETTO:+0200
TZNAME:CEST
DTSTART;TZID=Europe/Berlin:19700329T020000
RRULE:FREQ=YEARLY;INTERVAL=1;BYDAY=-1SU;BYMONTH=3
END:DAYLIGHT
BEGIN:STANDARD
TZOFFSETFROM:+0200
TZOFFSETTO:+0100
TZNAME:CET
DTSTART;TZID=Europe/Berlin:19701025T030000
RRULE:FREQ=YEARLY;INTERVAL=1;BYDAY=-1SU;BYMONTH=10
END:STANDARD
END:VTIMEZONE
BEGIN:VEVENT
DTSTAMP:20260424T163901
DTSTART;TZID=Europe/Berlin:20260423T160000
DTEND;TZID=Europe/Berlin:20260423T181500
UID:261S27A3TM-20260423T160000@KVHSSTENDAL
SUMMARY:Aquarellmalerei in Theorie und Praxis (261S27A3TM) 
LOCATION:Tangermünde, Sekundarschule, Raum 114, Augustastraße 31, 39590 Tangermünde
END:VEVENT
BEGIN:VEVENT
DTSTAMP:20260424T163901
DTSTART;TZID=Europe/Berlin:20260430T160000
DTEND;TZID=Europe/Berlin:20260430T181500
UID:261S27A3TM-20260430T160000@KVHSSTENDAL
SUMMARY:Aquarellmalerei in Theorie und Praxis (261S27A3TM) 
LOCATION:Tangermünde, Sekundarschule, Raum 114, Augustastraße 31, 39590 Tangermünde
END:VEVENT
BEGIN:VEVENT
DTSTAMP:20260424T163901
DTSTART;TZID=Europe/Berlin:20260507T160000
DTEND;TZID=Europe/Berlin:20260507T181500
UID:261S27A3TM-20260507T160000@KVHSSTENDAL
SUMMARY:Aquarellmalerei in Theorie und Praxis (261S27A3TM) 
LOCATION:Tangermünde, Sekundarschule, Raum 114, Augustastraße 31, 39590 Tangermünde
END:VEVENT
BEGIN:VEVENT
DTSTAMP:20260424T163901
DTSTART;TZID=Europe/Berlin:20260521T160000
DTEND;TZID=Europe/Berlin:20260521T181500
UID:261S27A3TM-20260521T160000@KVHSSTENDAL
SUMMARY:Aquarellmalerei in Theorie und Praxis (261S27A3TM) 
LOCATION:Tangermünde, Sekundarschule, Raum 114, Augustastraße 31, 39590 Tangermünde
END:VEVENT
BEGIN:VEVENT
DTSTAMP:20260424T163901
DTSTART;TZID=Europe/Berlin:20260604T160000
DTEND;TZID=Europe/Berlin:20260604T181500
UID:261S27A3TM-20260604T160000@KVHSSTENDAL
SUMMARY:Aquarellmalerei in Theorie und Praxis (261S27A3TM) 
LOCATION:Tangermünde, Sekundarschule, Raum 114, Augustastraße 31, 39590 Tangermünde
END:VEVENT
BEGIN:VEVENT
DTSTAMP:20260424T163901
DTSTART;TZID=Europe/Berlin:20260611T160000
DTEND;TZID=Europe/Berlin:20260611T181500
UID:261S27A3TM-20260611T160000@KVHSSTENDAL
SUMMARY:Aquarellmalerei in Theorie und Praxis (261S27A3TM) 
LOCATION:Tangermünde, Sekundarschule, Raum 114, Augustastraße 31, 39590 Tangermünde
END:VEVENT
BEGIN:VEVENT
DTSTAMP:20260424T163901
DTSTART;TZID=Europe/Berlin:20260618T160000
DTEND;TZID=Europe/Berlin:20260618T181500
UID:261S27A3TM-20260618T160000@KVHSSTENDAL
SUMMARY:Aquarellmalerei in Theorie und Praxis (261S27A3TM) 
LOCATION:Tangermünde, Sekundarschule, Raum 114, Augustastraße 31, 39590 Tangermünde
END:VEVENT
BEGIN:VEVENT
DTSTAMP:20260424T163901
DTSTART;TZID=Europe/Berlin:20260625T160000
DTEND;TZID=Europe/Berlin:20260625T181500
UID:261S27A3TM-20260625T160000@KVHSSTENDAL
SUMMARY:Aquarellmalerei in Theorie und Praxis (261S27A3TM) 
LOCATION:Tangermünde, Sekundarschule, Raum 114, Augustastraße 31, 39590 Tangermünde
END:VEVENT
END:VCALENDAR