BEGIN:VCALENDAR
PRODID:http://www.kufer.de/kuferweb / DE
VERSION:2.0
METHOD:PUBLISH
CALSCALE:GREGORIAN
X-WR-TIMEZONE:Europe/Berlin
BEGIN:VTIMEZONE
TZID:Europe/Berlin
X-LIC-LOCATION:Europe/Berlin
BEGIN:DAYLIGHT
TZOFFSETFROM:+0100
TZOFFSETTO:+0200
TZNAME:CEST
DTSTART;TZID=Europe/Berlin:19700329T020000
RRULE:FREQ=YEARLY;INTERVAL=1;BYDAY=-1SU;BYMONTH=3
END:DAYLIGHT
BEGIN:STANDARD
TZOFFSETFROM:+0200
TZOFFSETTO:+0100
TZNAME:CET
DTSTART;TZID=Europe/Berlin:19701025T030000
RRULE:FREQ=YEARLY;INTERVAL=1;BYDAY=-1SU;BYMONTH=10
END:STANDARD
END:VTIMEZONE
BEGIN:VEVENT
DTSTAMP:20260419T142041
DTSTART;TZID=Europe/Berlin:20261105T151500
DTEND;TZID=Europe/Berlin:20261105T164500
UID:262S72ATM-20261105T151500@KVHSSTENDAL
SUMMARY:Mathematik – Vorbereitung auf das schriftliche Abitur - Klasse 12 (262S72ATM) 
LOCATION:Tangermünde, Gymnasium, Raum 204, Lindenstraße 44, 39590 Tangermünde
END:VEVENT
BEGIN:VEVENT
DTSTAMP:20260419T142041
DTSTART;TZID=Europe/Berlin:20261112T151500
DTEND;TZID=Europe/Berlin:20261112T164500
UID:262S72ATM-20261112T151500@KVHSSTENDAL
SUMMARY:Mathematik – Vorbereitung auf das schriftliche Abitur - Klasse 12 (262S72ATM) 
LOCATION:Tangermünde, Gymnasium, Raum 204, Lindenstraße 44, 39590 Tangermünde
END:VEVENT
BEGIN:VEVENT
DTSTAMP:20260419T142041
DTSTART;TZID=Europe/Berlin:20261119T151500
DTEND;TZID=Europe/Berlin:20261119T164500
UID:262S72ATM-20261119T151500@KVHSSTENDAL
SUMMARY:Mathematik – Vorbereitung auf das schriftliche Abitur - Klasse 12 (262S72ATM) 
LOCATION:Tangermünde, Gymnasium, Raum 204, Lindenstraße 44, 39590 Tangermünde
END:VEVENT
BEGIN:VEVENT
DTSTAMP:20260419T142041
DTSTART;TZID=Europe/Berlin:20261126T151500
DTEND;TZID=Europe/Berlin:20261126T164500
UID:262S72ATM-20261126T151500@KVHSSTENDAL
SUMMARY:Mathematik – Vorbereitung auf das schriftliche Abitur - Klasse 12 (262S72ATM) 
LOCATION:Tangermünde, Gymnasium, Raum 204, Lindenstraße 44, 39590 Tangermünde
END:VEVENT
BEGIN:VEVENT
DTSTAMP:20260419T142041
DTSTART;TZID=Europe/Berlin:20261203T151500
DTEND;TZID=Europe/Berlin:20261203T164500
UID:262S72ATM-20261203T151500@KVHSSTENDAL
SUMMARY:Mathematik – Vorbereitung auf das schriftliche Abitur - Klasse 12 (262S72ATM) 
LOCATION:Tangermünde, Gymnasium, Raum 204, Lindenstraße 44, 39590 Tangermünde
END:VEVENT
BEGIN:VEVENT
DTSTAMP:20260419T142041
DTSTART;TZID=Europe/Berlin:20261210T151500
DTEND;TZID=Europe/Berlin:20261210T164500
UID:262S72ATM-20261210T151500@KVHSSTENDAL
SUMMARY:Mathematik – Vorbereitung auf das schriftliche Abitur - Klasse 12 (262S72ATM) 
LOCATION:Tangermünde, Gymnasium, Raum 204, Lindenstraße 44, 39590 Tangermünde
END:VEVENT
BEGIN:VEVENT
DTSTAMP:20260419T142041
DTSTART;TZID=Europe/Berlin:20261217T151500
DTEND;TZID=Europe/Berlin:20261217T164500
UID:262S72ATM-20261217T151500@KVHSSTENDAL
SUMMARY:Mathematik – Vorbereitung auf das schriftliche Abitur - Klasse 12 (262S72ATM) 
LOCATION:Tangermünde, Gymnasium, Raum 204, Lindenstraße 44, 39590 Tangermünde
END:VEVENT
BEGIN:VEVENT
DTSTAMP:20260419T142041
DTSTART;TZID=Europe/Berlin:20270107T151500
DTEND;TZID=Europe/Berlin:20270107T164500
UID:262S72ATM-20270107T151500@KVHSSTENDAL
SUMMARY:Mathematik – Vorbereitung auf das schriftliche Abitur - Klasse 12 (262S72ATM) 
LOCATION:Tangermünde, Gymnasium, Raum 204, Lindenstraße 44, 39590 Tangermünde
END:VEVENT
BEGIN:VEVENT
DTSTAMP:20260419T142041
DTSTART;TZID=Europe/Berlin:20270114T151500
DTEND;TZID=Europe/Berlin:20270114T164500
UID:262S72ATM-20270114T151500@KVHSSTENDAL
SUMMARY:Mathematik – Vorbereitung auf das schriftliche Abitur - Klasse 12 (262S72ATM) 
LOCATION:Tangermünde, Gymnasium, Raum 204, Lindenstraße 44, 39590 Tangermünde
END:VEVENT
BEGIN:VEVENT
DTSTAMP:20260419T142041
DTSTART;TZID=Europe/Berlin:20270121T151500
DTEND;TZID=Europe/Berlin:20270121T164500
UID:262S72ATM-20270121T151500@KVHSSTENDAL
SUMMARY:Mathematik – Vorbereitung auf das schriftliche Abitur - Klasse 12 (262S72ATM) 
LOCATION:Tangermünde, Gymnasium, Raum 204, Lindenstraße 44, 39590 Tangermünde
END:VEVENT
BEGIN:VEVENT
DTSTAMP:20260419T142041
DTSTART;TZID=Europe/Berlin:20270128T151500
DTEND;TZID=Europe/Berlin:20270128T164500
UID:262S72ATM-20270128T151500@KVHSSTENDAL
SUMMARY:Mathematik – Vorbereitung auf das schriftliche Abitur - Klasse 12 (262S72ATM) 
LOCATION:Tangermünde, Gymnasium, Raum 204, Lindenstraße 44, 39590 Tangermünde
END:VEVENT
BEGIN:VEVENT
DTSTAMP:20260419T142041
DTSTART;TZID=Europe/Berlin:20270211T151500
DTEND;TZID=Europe/Berlin:20270211T164500
UID:262S72ATM-20270211T151500@KVHSSTENDAL
SUMMARY:Mathematik – Vorbereitung auf das schriftliche Abitur - Klasse 12 (262S72ATM) 
LOCATION:Tangermünde, Gymnasium, Raum 204, Lindenstraße 44, 39590 Tangermünde
END:VEVENT
END:VCALENDAR